BEGIN:VCALENDAR
VERSION:2.0
PRODID:-//hacksw/handcal//NONSGML v1.0//EN
BEGIN:VEVENT
SUMMARY:Demi finale 2 R3 Phase finale R3 - Groupe 7d 94-USC-3 R3 contre 91-ESM-2 R3
UID:b572b29a-c8d1-4d1b-b8f6-62140a1cbccc
DTSTART:20260509T120000Z
DTEND:20260509T220000Z
LOCATION:Localisation   
CATEGORIES:Sportif
STATUS:
URL;VALUE=URI:https://www.esmbadminton91.fr/evenements/2026/05/09/demi-finale-2-r3-phase-finale-r3-groupe-7d-94-usc-3-r3-contre-91-esm-2-r3-2436169
END:VEVENT
END:VCALENDAR
