BEGIN:VCALENDAR
VERSION:2.0
PRODID:-//hacksw/handcal//NONSGML v1.0//EN
BEGIN:VEVENT
SUMMARY:Finale D5 Poule D - Petite finale 91-ESM-7 D5 contre 91-ASSGABAD-3 D5
UID:4583beab-1033-4514-a0b5-db9ab6de0987
DTSTART:20260416T183000Z
DTEND:20260416T220000Z
LOCATION:Localisation   
CATEGORIES:Sportif
STATUS:
URL;VALUE=URI:https://www.esmbadminton91.fr/evenements/2026/04/16/finale-d5-poule-d-petite-finale-91-esm-7-d5-contre-91-assgabad-3-d5-2435614
END:VEVENT
END:VCALENDAR
