BEGIN:VCALENDAR
VERSION:2.0
PRODID:-//hacksw/handcal//NONSGML v1.0//EN
BEGIN:VEVENT
SUMMARY:Finale D2 Poule B 91-ABS-1 D2 contre 91-ESM-4 D2
UID:eb9cf3f5-3447-48c3-ac82-be9b17489f34
DTSTART:20260416T173000Z
DTEND:20260416T220000Z
LOCATION:Localisation   
CATEGORIES:Sportif
STATUS:
URL;VALUE=URI:https://www.esmbadminton91.fr/evenements/2026/04/16/finale-d2-poule-b-91-abs-1-d2-contre-91-esm-4-d2-2436636
END:VEVENT
END:VCALENDAR
