BEGIN:VCALENDAR
VERSION:2.0
PRODID:-//hacksw/handcal//NONSGML v1.0//EN
BEGIN:VEVENT
SUMMARY:Finale D4 Poule B 91-OCGBAD-5 D4 contre 91-ESM-5 D4
UID:2b5d072a-1cc2-4507-96de-acc5bebb070f
DTSTART:20260415T173000Z
DTEND:20260415T220000Z
LOCATION:Localisation   
CATEGORIES:Sportif
STATUS:
URL;VALUE=URI:https://www.esmbadminton91.fr/evenements/2026/04/15/finale-d4-poule-b-91-ocgbad-5-d4-contre-91-esm-5-d4-2436634
END:VEVENT
END:VCALENDAR
