BEGIN:VCALENDAR
VERSION:2.0
PRODID:-//hacksw/handcal//NONSGML v1.0//EN
BEGIN:VEVENT
SUMMARY:Finale D5 Poule A 91-COC-1 D5 contre 91-ESM-6 D5
UID:9b30d339-58da-4d47-8475-5143efb62210
DTSTART:20260414T180000Z
DTEND:20260414T220000Z
LOCATION:Localisation   
CATEGORIES:Sportif
STATUS:
URL;VALUE=URI:https://www.esmbadminton91.fr/evenements/2026/04/14/finale-d5-poule-a-91-coc-1-d5-contre-91-esm-6-d5-2436635
END:VEVENT
END:VCALENDAR
