BEGIN:VCALENDAR
VERSION:2.0
PRODID:-//hacksw/handcal//NONSGML v1.0//EN
BEGIN:VEVENT
SUMMARY:D6 Poule B 91-MCBC-2 D6 contre 91-ESM-8 D6
UID:70443fc5-c71f-4d3f-9be9-dc84c60870a7
DTSTART:20260407T183000Z
DTEND:20260407T220000Z
LOCATION:Localisation   
CATEGORIES:Sportif
STATUS:
URL;VALUE=URI:https://www.esmbadminton91.fr/evenements/2026/04/07/d6-poule-b-91-mcbc-2-d6-contre-91-esm-8-d6-2432680
END:VEVENT
END:VCALENDAR
