BEGIN:VCALENDAR
VERSION:2.0
PRODID:-//hacksw/handcal//NONSGML v1.0//EN
BEGIN:VEVENT
SUMMARY:D6 Poule B 91-ESM-8 D6 contre 91-BADITT-2 D6
UID:9b3a91aa-c00b-4812-9af4-ee41a0b767f4
DTSTART:20260402T183000Z
DTEND:20260402T220000Z
LOCATION:Localisation   
CATEGORIES:Sportif
STATUS:
URL;VALUE=URI:https://www.esmbadminton91.fr/evenements/2026/04/02/d6-poule-b-91-esm-8-d6-contre-91-baditt-2-d6-2432679
END:VEVENT
END:VCALENDAR
