BEGIN:VCALENDAR
VERSION:2.0
PRODID:-//hacksw/handcal//NONSGML v1.0//EN
BEGIN:VEVENT
SUMMARY:Demi finale 2 D5 Poule A 91-ESM-6 D5 contre 91-MCBC-1 D5
UID:856b6ba9-e9bc-48a4-865e-f856a4a62972
DTSTART:20260401T183000Z
DTEND:20260401T220000Z
LOCATION:Localisation   
CATEGORIES:Sportif
STATUS:
URL;VALUE=URI:https://www.esmbadminton91.fr/evenements/2026/04/01/demi-finale-2-d5-poule-a-91-esm-6-d5-contre-91-mcbc-1-d5-2432678
END:VEVENT
END:VCALENDAR
