BEGIN:VCALENDAR
VERSION:2.0
PRODID:-//hacksw/handcal//NONSGML v1.0//EN
BEGIN:VEVENT
SUMMARY:Demi finale 2 D2 Poule B 91-NBA-2 D2 contre 91-ESM-4 D2
UID:b7ad4c4b-e2ee-4378-9e31-5b55bd492129
DTSTART:20260401T180000Z
DTEND:20260401T220000Z
LOCATION:Localisation   
CATEGORIES:Sportif
STATUS:
URL;VALUE=URI:https://www.esmbadminton91.fr/evenements/2026/04/01/demi-finale-2-d2-poule-b-91-nba-2-d2-contre-91-esm-4-d2-2432677
END:VEVENT
END:VCALENDAR
